BEGIN:VCALENDAR
VERSION:2.0
PRODID:-//Judit Szathmary Courses - ECPv6.15.20//NONSGML v1.0//EN
CALSCALE:GREGORIAN
METHOD:PUBLISH
X-ORIGINAL-URL:https://courses.juditszathmary.com
X-WR-CALDESC:Events for Judit Szathmary Courses
REFRESH-INTERVAL;VALUE=DURATION:PT1H
X-Robots-Tag:noindex
X-PUBLISHED-TTL:PT1H
BEGIN:VTIMEZONE
TZID:UTC
BEGIN:STANDARD
TZOFFSETFROM:+0000
TZOFFSETTO:+0000
TZNAME:UTC
DTSTART:20250101T000000
END:STANDARD
END:VTIMEZONE
BEGIN:VEVENT
DTSTART;TZID=UTC:20260330T103000
DTEND;TZID=UTC:20270401T143000
DTSTAMP:20260422T165302
CREATED:20250123T113837Z
LAST-MODIFIED:20260120T153108Z
UID:29350-1774866600-1806589800@courses.juditszathmary.com
SUMMARY:Easter Mini-Block 2026
DESCRIPTION:Our holiday courses are designed to provide integrated\, holistic systems of services from babyhood to adulthood in different locations in the UK. \n \n  \nThe programmes are complex and focus on establishing the ability to actively participate in and successfully interact with the social\, physical\, and natural world\, building independence skills\, communication\, changing position and place\, mobility\, transferring\, walking\, climbing stairs\, dexterity\, coordination\, self-care\, and more. \n                      \n 
URL:https://courses.juditszathmary.com/event/easter-mini-block
LOCATION:Thakeham\, Pulborough\, United Kingdom
ATTACH;FMTTYPE=image/webp:https://courses.juditszathmary.com/wp-content/uploads/2025/01/92629870_1055168441535360_3739775569638719488_n.webp
END:VEVENT
BEGIN:VEVENT
DTSTART;TZID=UTC:20260527T103000
DTEND;TZID=UTC:20260529T143000
DTSTAMP:20260422T165302
CREATED:20250123T115007Z
LAST-MODIFIED:20260120T152922Z
UID:29362-1779877800-1780065000@courses.juditszathmary.com
SUMMARY:May Half Term Mini-Block 2026
DESCRIPTION:Our holiday courses are designed to provide integrated\, holistic systems of services from babyhood to adulthood in different locations in the UK \n  \n. \n  \n  \nThe programmes are complex and focus on establishing the ability to actively participate\, successfully interact with the social\, physical\, and natural world\, build independence skills\, communicate\, change position and place\, mobility\, transferring\, walking\, climbing stairs\, dexterity\, coordination\, self-care\, and more. \n 
URL:https://courses.juditszathmary.com/event/may-half-term-mini-block
LOCATION:Thakeham\, Pulborough\, United Kingdom
ATTACH;FMTTYPE=image/webp:https://courses.juditszathmary.com/wp-content/uploads/2025/01/IMG_1293.webp
END:VEVENT
BEGIN:VEVENT
DTSTART;TZID=UTC:20260730T083000
DTEND;TZID=UTC:20260730T183000
DTSTAMP:20260422T165302
CREATED:20251013T072913Z
LAST-MODIFIED:20251013T074613Z
UID:29470-1785400200-1785436200@courses.juditszathmary.com
SUMMARY:Summer Retreat 2026 — West Sussex
DESCRIPTION:A purposeful retreat from the mindset that binds us to the reality we aim to overcome\, opening the path to transformation.\n  \n \nSet within the quiet beauty of the West Sussex countryside\, this Summer Retreat offers time to pause\, realign\, and re-enter the deeper rhythm of being. The days unfold gently between guided sessions\, embodied practice\, and moments for reflection and rest. Each element is designed to attune body\, breath\, and awareness — allowing a return to the natural intelligence already within. \n  \n \n  \nMorning sessions begin with a focus on the body — through feeling\, movement\, and breath — supported by salt baths\, massage\, and stretches that ease tension and restore balance. Afternoons invite time in nature\, one-to-one sessions\, hand tasks\, and creative art. \n                                               \nEvenings gather softly around shared meals\, contemplative discussion\, and laughter — marking the close of each day with warmth and ease. \n \nThroughout the retreat\, we explore the movement from thought into awareness\, from habit into renewal\, from form into essence. The work is gentle yet deep\, harmonising coherence between body and mind\, heart and brain — bridging insight and lived experience in a process of transformation. It is a space where the symbolic meets the somatic\, and where old narratives begin to dissolve in light. \nAll practices are adapted to individual needs\, with attention given to nurturing functional skills and independence in everyday life — helping participants integrate the retreat’s insights with practical solutions and self-confidence. \nAn End-of-Summer Retreat will follow in the New Forest\, running from 29 August to 2 September\, before the return to schools and colleges.
URL:https://courses.juditszathmary.com/event/summer-retreat-2026-west-sussex
LOCATION:West Sussex
ATTACH;FMTTYPE=image/jpeg:https://courses.juditszathmary.com/wp-content/uploads/2025/06/514905473_1272089784702634_7082996036984999782_n.jpg
ORGANIZER;CN="Judit Szathmary":MAILTO:info@juditszathmary.com
END:VEVENT
BEGIN:VEVENT
DTSTART;TZID=UTC:20260810T103000
DTEND;TZID=UTC:20260821T143000
DTSTAMP:20260422T165302
CREATED:20250123T115659Z
LAST-MODIFIED:20260120T150045Z
UID:29365-1786357800-1787322600@courses.juditszathmary.com
SUMMARY:Summer Course 2026
DESCRIPTION:Our holiday courses are designed to provide integrated\, holistic systems of services from babyhood to adulthood in different locations in the UK.\n\nThe programmes are complex and focus on establishing the ability to actively participate\, and successfully interact with the social\, physical and natural world\, building independence skills\, communication\, changing position and place\, mobility\, transferring\, walking\, climbing stairs\, dexterity\, coordination\, self-care and more. \n              \n 
URL:https://courses.juditszathmary.com/event/summer-course
LOCATION:Thakeham\, Pulborough\, United Kingdom
ATTACH;FMTTYPE=image/jpeg:https://courses.juditszathmary.com/wp-content/uploads/2025/06/504432805_1272081754703437_6942608029914271553_n.jpg
END:VEVENT
BEGIN:VEVENT
DTSTART;VALUE=DATE:20260829
DTEND;VALUE=DATE:20260904
DTSTAMP:20260422T165302
CREATED:20250630T112405Z
LAST-MODIFIED:20260120T145757Z
UID:29412-1787961600-1788479999@courses.juditszathmary.com
SUMMARY:Summer Retreat 2026 in the New Forest\, Hampshire
DESCRIPTION:Created to uplift\, restore\, and awaken potential\, our summer retreat offers a one-of-a-kind opportunity to pause\, connect\, and grow. Each year\, we craft a nurturing environment that meets the unique needs of every participant — allowing space for movement\, expression\, reflection\, and joy. \nThis year\, we return with a carefully curated blend of familiar favourites and new\, enriching activities that deepen participants’ connections to themselves\, their families\, and the world around them. Set within peaceful New Forest surroundings\, the retreat centres around our foundational principle: Active Conductive Living — the art of integrating movement and intention into daily life with awareness\, dignity\, and purpose. \n\nWhat to Expect\nThroughout the retreat participants will have the opportunity to: \n\nParticipate in daily functional routines that promote independence\nPractise self-help and personal care skills in supported environments\nEngage in movement classes designed to improve balance\, control\, and coordination\nExplore self-expression through gesture\, rhythm\, and playful communication\nEnjoy moments of rest\, restoration\, and laughter through shared meals and activities\n\nWe are especially excited to offer a renewed focus on: \nHappy Hands and Feet\nA gentle yet powerful daily practice dedicated to energising and harmonising the internal flow of the body. By exploring purposeful hand gestures\, foot poses\, and structured movements\, we can help stimulate circulation\, enhance organ function\, and support a holistic sense of vitality. These activities are not only practical for improving fine motor control\, putting weight through the feet\, standing and walking\, but also serve to balance emotional and mental wellbeing. \nSoothing Epsom salt foot baths\, lavender wraps\, and nourishing leg and foot massages will be offered every day to relax the body and ease muscular tension. \nPosture and Presence\nThis year we introduce guided moments of reflection on how we hold ourselves in the world. Through playful yet intentional exercises\, we will explore: \n\nHow posture shapes confidence and energy flow\nWays to increase awareness of how we “show up” in everyday life\nThe link between movement and inner belief systems\n\nFrom a poised stance to an open gesture\, our outer form communicates something deep — and we aim to support each participant in developing a more centred\, expressive relationship with their body.
URL:https://courses.juditszathmary.com/event/29412
LOCATION:New Forest UK\, Lymington
ATTACH;FMTTYPE=image/webp:https://courses.juditszathmary.com/wp-content/uploads/2025/06/64946176_458378771396896_3217330099871285248_n.webp
ORGANIZER;CN="Judit Szathmary":MAILTO:info@juditszathmary.com
END:VEVENT
BEGIN:VEVENT
DTSTART;TZID=UTC:20261028T103000
DTEND;TZID=UTC:20261030T143000
DTSTAMP:20260422T165302
CREATED:20250123T162400Z
LAST-MODIFIED:20260320T152458Z
UID:29389-1793183400-1793370600@courses.juditszathmary.com
SUMMARY:October Half-Term Mini Block
DESCRIPTION:Our holiday courses are designed to provide integrated\, holistic systems of services from babyhood to adulthood in different locations in the UK. \n  \n \nThe programmes are complex and focus on establishing the ability to actively participate in and successfully interact with the social\, physical\, and natural world\, building independence skills\, communication\, changing position and place\, mobility\, transferring\, walking\, climbing stairs\, dexterity\, coordination\, self-care\, and more. \n  \n     \n  \n 
URL:https://courses.juditszathmary.com/event/october-half-term-mini-block
LOCATION:Thakeham\, Pulborough\, United Kingdom
ATTACH;FMTTYPE=image/webp:https://courses.juditszathmary.com/wp-content/uploads/2025/01/465169886_1095477795697168_8882862401259605153_n.webp
END:VEVENT
END:VCALENDAR