BEGIN:VCALENDAR
VERSION:2.0
PRODID:-//Judit Szathmary Courses - ECPv6.15.20//NONSGML v1.0//EN
CALSCALE:GREGORIAN
METHOD:PUBLISH
X-ORIGINAL-URL:https://courses.juditszathmary.com
X-WR-CALDESC:Events for Judit Szathmary Courses
REFRESH-INTERVAL;VALUE=DURATION:PT1H
X-Robots-Tag:noindex
X-PUBLISHED-TTL:PT1H
BEGIN:VTIMEZONE
TZID:UTC
BEGIN:STANDARD
TZOFFSETFROM:+0000
TZOFFSETTO:+0000
TZNAME:UTC
DTSTART:20240101T000000
END:STANDARD
END:VTIMEZONE
BEGIN:VEVENT
DTSTART;TZID=UTC:20251228T093000
DTEND;TZID=UTC:20260102T180000
DTSTAMP:20260422T163703
CREATED:20250910T161745Z
LAST-MODIFIED:20251009T200954Z
UID:29440-1766914200-1767376800@courses.juditszathmary.com
SUMMARY:Winter Retreat  New Forest 28th – 2nd January 2026
DESCRIPTION:The days between Christmas and New Year hold a rare and special magic. The rush of festivities has quietened\, and the new year has not yet begun — a gentle pause\, a time to breathe and turn inward. \nThis retreat offers participants a sanctuary during this unique season\, providing the opportunity to: \nRest deeply after the fullness of December. \nReflect meaningfully on the year that has passed. \nPrepare with clarity and intention for the year ahead. \nSet in a welcoming environment with candlelight\, nourishing meals\, and kind company\, the retreat combines restorative practices\, guided reflections\, and simple celebrations. Participants will be supported in releasing the old year\, replenishing body and mind\, and stepping into 2026 with ease and renewed energy. \nIt is a gift of time: moments in the crisp winter air\, returning to the warmth of fine dinners; soulful practices; quiet reflection; and the gentle rhythm of shared experience\, creating space to reconnect with self before the pace of life resumes. \n                                     \n\nWhat to Expect\nA winter retreat is unlike any other. The stillness of the season invites calm\, while shared experiences foster warmth and connection. Between Christmas and New Year\, participants will have the perfect opportunity to restore balance\, rejuvenate\, and step into the new year with strength and clarity. \nDuring the retreat\, participants will receive: \nDaily routines to cultivate steadiness\, confidence\, and presence. \nGentle self-care practices in a supportive environment\, promoting independence and ease. \nMovement and flow sessions designed to improve balance\, coordination\, and vitality. \nCreative self-expression through gesture\, rhythm\, and playful communication. \nWholesome\, nourishing meals to restore energy after the indulgence of Christmas — healthy\, hearty\, and full of flavour. \nOrganic hot chocolate making made from pure cocoa\, a comforting treat to enjoy in company. \nMoments of stillness\, laughter\, and connection\, woven through shared meals\, simple celebrations\, and reflective practices. \nThis retreat embraces the beauty of winter — the crisp air\, the quiet of the season\, the warmth of companionship\, and the promise of a new year. Participants will be invited to let the old year gently settle\, and to enter the next one feeling revitalised\, centred\, and ready for fresh beginnings.
URL:https://courses.juditszathmary.com/event/winter-retreat-28th-2nd-december-2025
LOCATION:New Forest UK\, Lymington
ATTACH;FMTTYPE=image/jpeg:https://courses.juditszathmary.com/wp-content/uploads/2025/09/Best-pubs-in-The-New-Forest.jpg
ORGANIZER;CN="Judit Szathmary":MAILTO:info@juditszathmary.com
END:VEVENT
END:VCALENDAR